BEGIN:VCALENDAR
PRODID:NingEventWidget-v1
VERSION:2.0
METHOD:PUBLISH
BEGIN:VEVENT
UID:4320450:Event:2502
DTSTAMP:20260425T142542Z
SUMMARY:DELILAH'S TAILGATE CHALLENGE
DESCRIPTION:Every HOME game 610 WIP's Jason Myrtetus and The Delilah's
  Dream Team will be searching the lots for the best tailgate party. Th
 e winner will receive a complimentary party at Delilah's during the ne
 xt away game & a featured webisode on 610wip.com. Text THEDEN to 67768
  to let us know where to find your party! Presented in part by Texas W
 ieners\n\nFor more information visit http://phillytodo.com/events/deli
 lahs-tailgate-challenge-1
DTSTART:20101003T170000Z
DTEND:20101003T230000Z
CATEGORIES:tailgate, party
LOCATION:FDR PARk
WEBSITE:http://www.delilahs.com
URL:http://www.delilahs.com
CONTACT:215-625-2800
ORGANIZER;CN="Delilah's":http://phillytodo.com/profile/Delilahs
ATTACH;FMTTYPE="image/jpeg":http://storage.ning.com/topology/rest/1.0/
 file/get/3054950672?profile=original
ATTENDEE;ROLE=REQ-PARTICIPANT;PARTSTAT=ACCEPTED;RSVP=TRUE;CN="Delilah'
 s":http://phillytodo.com/profile/Delilahs
END:VEVENT
END:VCALENDAR
