BEGIN:VCALENDAR
PRODID:NingEventWidget-v1
VERSION:2.0
METHOD:PUBLISH
BEGIN:VEVENT
UID:4320450:Event:25428
DTSTAMP:20260425T130945Z
SUMMARY:Delilah's Entertainer of the Year 2012
DESCRIPTION:Join us Wed, March 21st for Delilah's annual Entertainer o
 f the Year contest!  Competition hosted by Peek-A-Boo Revue.  Featur
 ing a select open bar and gourmet hors' d oeurves beginning at 7p.  S
 ponsored in part by Grey Goose, Red Stag, and Corona.  See who will w
 alk away with over $12,000 in cash & prizes. \nTo reserve a table for
  bottle service, please contact 215.625.2800 x101 or francesca@delilah
 s.com\n\nFor more information visit http://phillytodo.com/events/delil
 ah-s-entertainer-of-the-year-2012
DTSTART:20120321T230000Z
DTEND:20120322T060000Z
CATEGORIES:annual, contest
LOCATION:Delilah's Gentleman's Club & Steakhouse
WEBSITE:http://www.delilahs.com
URL:http://www.delilahs.com
CONTACT:215.625.2800
ORGANIZER;CN="Francesca DiDomenico":http://phillytodo.com/profile/Fran
 cescaDiDomenico
ATTACH;FMTTYPE="image/jpeg":http://storage.ning.com/topology/rest/1.0/
 file/get/3054958203?profile=original
ATTENDEE;ROLE=REQ-PARTICIPANT;PARTSTAT=ACCEPTED;RSVP=TRUE;CN="Francesc
 a DiDomenico":http://phillytodo.com/profile/FrancescaDiDomenico
END:VEVENT
END:VCALENDAR
