BEGIN:VCALENDAR
PRODID:NingEventWidget-v1
VERSION:2.0
METHOD:PUBLISH
BEGIN:VEVENT
UID:4320450:Event:36585
DTSTAMP:20260425T142539Z
SUMMARY:Delaware River Maritime Day
DESCRIPTION:Come down to Penn’s Landing this Memorial Day Weekend an
 d join the FREE Philadelphia Maritime Day celebration! Tour SUNY Mari
 time College’s training ship the Empire State VI, watch competitiv
 e boat races, and visit real working local tugboats. The McFarland wi
 ll also arrive into port on May 23 and will be giving tours on Saturd
 ay.  Come learn what this city inside a city does on the river. The 
 day will be filled with exhibits, demonstrations, vendors, and fun fo
 r all ages. Admission is FREE!\n\nFor more information visit http://p
 hillytodo.com/events/delaware-river-maritime-day
DTSTART:20140524T140000Z
DTEND:20140524T220000Z
CATEGORIES:boating, outdoors, waterfront
LOCATION:Great Plaza at Penn's Landing
WEBSITE:http://www.delawareriverwaterfront.com/events/national-marina-
 day-2014
URL:http://www.delawareriverwaterfront.com/events/national-marina-day-
 2014
CONTACT:215-922-2386
ORGANIZER;CN="Delaware River Waterfront Corp.":http://phillytodo.com/p
 rofile/DelawareRiverWaterfrontCorp
ATTACH;FMTTYPE="image/jpeg":http://storage.ning.com/topology/rest/1.0/
 file/get/3054973743?profile=original
ATTENDEE;ROLE=REQ-PARTICIPANT;PARTSTAT=ACCEPTED;RSVP=TRUE;CN="Delaware
  River Waterfront Corp.":http://phillytodo.com/profile/DelawareRiverWa
 terfrontCorp
END:VEVENT
END:VCALENDAR
