BEGIN:VCALENDAR
PRODID:NingEventWidget-v1
VERSION:2.0
METHOD:PUBLISH
BEGIN:VEVENT
UID:4320450:Event:26717
DTSTAMP:20260425T130555Z
SUMMARY:Del Frisco's Yards Beer Dinner
DESCRIPTION:Del Frisco's Double Eagle Steakhouse is teaming up with lo
 cal brewing company Yards, in their first ever beer dinner.  For $99 
 per person, participants will sample passed hors d’oeuvres and three
  progressive courses, each perfectly paired with hand selected Yards b
 eer. Course offerings include Cheesesteak Dumplings, Brawler Steamed 
 Mussels and Beer Braised Pork Shoulder. Reservations are heavily sugg
 ested!\n\nFor more information visit http://phillytodo.com/events/del-
 frisco-s-yards-beer-dinner
DTSTART:20120503T220000Z
DTEND:20120503T230000Z
CATEGORIES:beer, dinner, with, yards, brewing, company
LOCATION:Del Frisco's Double Eagle Steakhouse
WEBSITE:http://www.delfriscos.com
URL:http://www.delfriscos.com
CONTACT:215-246-0533
ORGANIZER:
ATTACH;FMTTYPE="image/jpeg":
ATTENDEE;ROLE=REQ-PARTICIPANT;PARTSTAT=ACCEPTED;RSVP=TRUE;CN="Lauren W
 enzel":http://phillytodo.com/profile/JacklinRhoads
END:VEVENT
END:VCALENDAR
