BEGIN:VCALENDAR
PRODID:NingEventWidget-v1
VERSION:2.0
METHOD:PUBLISH
BEGIN:VEVENT
UID:4320450:Event:26402
DTSTAMP:20260425T125030Z
SUMMARY:Del Frisco's Easter Special
DESCRIPTION:\nWhat’s better than chocolate on Easter? Prime Rib! Cel
 ebrate Easter on April 8th at Del Frisco’s. Indulge in a 12 oz. prim
 e rib for $35 or a 16 oz. prime rib for $45. The dinner menu will also
  be available.\n\n\nFor more information visit http://phillytodo.com/e
 vents/del-frisco-s-easter-special
DTSTART:20120408T210000Z
DTEND:20120409T020000Z
CATEGORIES:food
LOCATION:Del Frisco's Double Eagle Steakhouse
WEBSITE:http://delfriscos.com/
URL:http://delfriscos.com/
CONTACT:(215) 246-0533
ORGANIZER:Kylie Flett
ATTACH;FMTTYPE="image/jpeg":http://storage.ning.com/topology/rest/1.0/
 file/get/3054958157?profile=original
ATTENDEE;ROLE=REQ-PARTICIPANT;PARTSTAT=ACCEPTED;RSVP=TRUE;CN="Lauren W
 enzel":http://phillytodo.com/profile/JacklinRhoads
END:VEVENT
END:VCALENDAR
