BEGIN:VCALENDAR
PRODID:NingEventWidget-v1
VERSION:2.0
METHOD:PUBLISH
BEGIN:VEVENT
UID:4320450:Event:28302
DTSTAMP:20260425T151244Z
SUMMARY:Del Frisco's Double Eagle Steakhouse Presents \"The Mrs. Furin
 o Wine Dinner\" Supporting BreastCancer.org
DESCRIPTION:The “Mrs. Furino Wine Dinner” will be held on October 
 17th, 2012 at 6pm with Mrs. Furino and CEO of Del Frisco’s Restauran
 t Group Mark Mednansky running the kitchen. They will be preparing aut
 hentic Italian dishes for a number of lucky guests, with the support o
 f Del Frisco’s Executive Chef John Stritzinger as well as General Ma
 nager, Richie Furino. Each of the five courses from the chilled scungi
 lli salad to homemade manicotti with traditional “Sunday Gravy” wi
 ll be paired with a special Pio Cesare wine. \nWith Mrs. Furino and M
 ark’s wife both being breast cancer survivors, they felt strongly ab
 out hosting the dinner in honor of National Breast Cancer Awareness mo
 nth. $50 from each $250 plate will be donated to BreastCancer.org, a n
 onprofit dedicated to providing the most reliable, complete and up-to-
 date information about breast cancer. Representatives from BreastCance
 r.org will also be present to provide educational materials and inform
 ation to diners. \n\nFor more information visit http://phillytodo.com
 /events/del-frisco-s-double-eagle-steakhouse-presents-the-mrs-furino-w
 ine
DTSTART:20121017T220000Z
DTEND:20121018T040000Z
CATEGORIES:fundraiser
LOCATION:Del Frisco's Double Eagle Steakhouse
WEBSITE:http://www.delfriscos.com
URL:http://www.delfriscos.com
CONTACT:215-246-0533
ORGANIZER:
ATTACH;FMTTYPE="image/jpeg":http://storage.ning.com/topology/rest/1.0/
 file/get/3054959317?profile=original
ATTENDEE;ROLE=REQ-PARTICIPANT;PARTSTAT=ACCEPTED;RSVP=TRUE;CN="Lauren W
 enzel":http://phillytodo.com/profile/JacklinRhoads
END:VEVENT
END:VCALENDAR
