BEGIN:VCALENDAR
PRODID:NingEventWidget-v1
VERSION:2.0
METHOD:PUBLISH
BEGIN:VEVENT
UID:4320450:Event:35344
DTSTAMP:20260425T144259Z
SUMMARY:Deep Blue NYE 2014
DESCRIPTION:This year’s premier New Year’s Eve event is at the all
  new SKY BOX!\nBe immersed in an ocean of sight and sound as we bring 
 you…\n★ DEEP BLUE NYE ★\nArche Dream for Human Kind will be perf
 orming their award winning DEEP BLUE. Experience Day, Night, The Lizar
 d, The Birds, Air and the Phoenix in a world like no other. In DEEP BL
 UE, elements and emotions come to life through theatre and dance setti
 ng the stage in ADHK’s quest to unite, uplift, and empower; to rise 
 up from the ashes, much like the Phoenix, and be passionate, inspired 
 and creative.  Mesmerizing costumes and intriguing illusions will hav
 e you asking yourself, “was that just a dream?\nThe evening's music 
 will be provided by:\n★ The International DJ CASPER\n★ DJ Ricky Le
 e\n★ DJ Jeff Heart\n★ DJ Ghost\n \nOpen bar and VIP options avail
 able\n\nAbout the Venue:\nThe Skybox offers over 6,500 square feet of 
 open space for creating brilliant events. The rectangular room feature
 s a cast-iron railed mezzanine, hardwood floors, 42-foot ceilings with
  loft-style skylights, 19th century wood cross beams, and magnificent 
 iron accents throughout to create an industrial impression.\n \nWe’
 ve also brought in an elite sound system, specialized lighting and ama
 zing 3d mapping technology.\n \n➣ Pass hors d'oeuvres\n➣ Plenty o
 f seating will be available for both VIP and GA guests\n➣ This is a 
 21+ Event\n➣ Valet parking will be available\n \n \nIf you have mo
 re questions or are interested in promoting this event please contact 
 a member of our team at deepbluenye2014@gmail.com or by calling (215)4
 26-2828\n \nPlease note that this event is non refundable\n\nFor more
  information visit http://phillytodo.com/events/deep-blue-nye-2014
DTSTART:20140101T020000Z
DTEND:20140101T080000Z
CATEGORIES:new, years, eve
LOCATION:The Skybox Event Center
WEBSITE:http://www.deepbluenye2014.com
URL:http://www.deepbluenye2014.com
CONTACT:2154262828
ORGANIZER;CN="One Up Events":http://phillytodo.com/profile/OneUpEvents
ATTACH;FMTTYPE="image/jpeg":http://storage.ning.com/topology/rest/1.0/
 file/get/3054968954?profile=original
ATTENDEE;ROLE=REQ-PARTICIPANT;PARTSTAT=ACCEPTED;RSVP=TRUE;CN="One Up E
 vents":http://phillytodo.com/profile/OneUpEvents
END:VEVENT
END:VCALENDAR
