BEGIN:VCALENDAR
PRODID:NingEventWidget-v1
VERSION:2.0
METHOD:PUBLISH
BEGIN:VEVENT
UID:4320450:Event:21702
DTSTAMP:20260425T161654Z
SUMMARY:Deck the Halls with Rock Star of the Art World, Michael Godard
DESCRIPTION:Just in time for the holiday season, “Rock Star of the A
 rt World” Michael Godard, will return to the Oh My Godard Gallery at
  the Pier Shops at Caesars for a special in-store appearance on Decemb
 er 3th and 4th. This event is the perfect place to purchase one-of-a-k
 ind gifts for art enthusiasts and Godard fans alike. At his holiday At
 lantic City appearance, fans will be able to meet Godard, purchase ori
 ginal works and his top-selling book, Don’t Drink & Draw. The oversi
 zed, coffee-table book covers Godard’s journey from his troubled chi
 ldhood to his life as a number one best-selling artist. Godard will si
 gn and dedicate those books purchased as a special keepsake for fans. 
 In addition to the book signing, Godard is available to work with coll
 ectors to create original sketches. Those interested in the opportunit
 y to work with Godard to infuse an original idea with his traditional 
 characters and style may purchase a blank canvas. The canvasses are av
 ailable for preorder in three sizes and are priced from $2,500.00 to $
 4,500.00.\n \n \n \n \n \n \n \n\nFor more information visit ht
 tp://phillytodo.com/events/deck-the-halls-with-rock-star-of-the-art-wo
 rld-michael-godard
DTSTART:20111203T220000Z
DTEND:20111204T020000Z
CATEGORIES:art
LOCATION:Oh My Godard Gallery
WEBSITE:
URL:
CONTACT:609-441-2040
ORGANIZER;CN=CashmanAssoc:http://phillytodo.com/profile/CashmanAssoc
ATTACH;FMTTYPE="image/jpeg":http://storage.ning.com/topology/rest/1.0/
 file/get/3054957094?profile=original
ATTENDEE;ROLE=REQ-PARTICIPANT;PARTSTAT=ACCEPTED;RSVP=TRUE;CN=CashmanAs
 soc:http://phillytodo.com/profile/CashmanAssoc
END:VEVENT
END:VCALENDAR
