BEGIN:VCALENDAR
PRODID:NingEventWidget-v1
VERSION:2.0
METHOD:PUBLISH
BEGIN:VEVENT
UID:4320450:Event:38907
DTSTAMP:20260425T144246Z
SUMMARY:December Birdseed Sale
DESCRIPTION:Start your holiday shopping with our great selection of gi
 fts for nature lovers.  Choose from various sizes and types of birdse
 ed including: black oil sunflower, safflower, ultimate mix (includes d
 ried cherries), conservation mix, corn on the cob, niger seed, sunflow
 er chips, peanut hearts, hot pepper suet, high energy seed and suet, p
 atio mix, and lots more.\nAt the December Birdseed Sale, Schuylkill Ce
 nter members receive 20% off and non-members receive 10% off regular s
 tore birdseed prices.  To place an advance order, email claire@schuyl
 killcenter.org or call 215-482-7300, x127 by November 26.\n\nFor more 
 information visit http://phillytodo.com/events/december-birdseed-sale
DTSTART:20141206T140000Z
DTEND:20141206T213000Z
CATEGORIES:"birdseed sale"
LOCATION:The Schuylkill Center for Environmental Education
WEBSITE:http://www.schuylkillcenter.org/
URL:http://www.schuylkillcenter.org/
CONTACT:215-482-7300, x110
ORGANIZER;CN="The Schuylkill Center":http://phillytodo.com/profile/Ann
 aLehrMueser
ATTACH;FMTTYPE="image/jpeg":http://storage.ning.com/topology/rest/1.0/
 file/get/3054980480?profile=original
ATTENDEE;ROLE=REQ-PARTICIPANT;PARTSTAT=ACCEPTED;RSVP=TRUE;CN="The Schu
 ylkill Center":http://phillytodo.com/profile/AnnaLehrMueser
END:VEVENT
END:VCALENDAR
