BEGIN:VCALENDAR
PRODID:NingEventWidget-v1
VERSION:2.0
METHOD:PUBLISH
BEGIN:VEVENT
UID:4320450:Event:54401
DTSTAMP:20260425T142407Z
SUMMARY:Deb Shebish &amp; the McLeod Brothers-Free Live Traditional Fi
 ddle
DESCRIPTION:Come and gather around the fire and enjoy an afternoon of 
 free traditional fiddle music! Music, hot chocolate, the Greensgrow Ho
 liday Bazaar plus so many great green, growing and edible gifts! Deb S
 hebish Music is a versatile fiddler who has performed at venues includ
 ing: the The Ryman Auditorium in Nashville, TN with Mairead Ni Mhaonai
 gh, Ric Blair and Tim O’Brien, the United States Air Force Academy, 
 the Hilbert Circle Theater, the Waterford Tall Ships Festival in Irela
 nd, and the Leith Folk Club in Scotland.\n\nFor more information visit
  http://phillytodo.com/events/deb-shebish-amp-the-mcleod-brothers-free
 -live-traditional-fiddle
DTSTART:20171217T160000Z
DTEND:20171217T180000Z
CATEGORIES:holiday, event
LOCATION:Greensgrow Farms
WEBSITE:
URL:
CONTACT:
ORGANIZER;CN="Greensgrow Farms":http://phillytodo.com/profile/Greensgr
 owFarms
ATTACH;FMTTYPE="image/jpeg":
ATTENDEE;ROLE=REQ-PARTICIPANT;PARTSTAT=ACCEPTED;RSVP=TRUE;CN="Greensgr
 ow Farms":http://phillytodo.com/profile/GreensgrowFarms
END:VEVENT
END:VCALENDAR
