BEGIN:VCALENDAR
PRODID:NingEventWidget-v1
VERSION:2.0
METHOD:PUBLISH
BEGIN:VEVENT
UID:4320450:Event:42817
DTSTAMP:20260425T130709Z
SUMMARY:Death, Re-birth, and Karma: A Meditation Day Course
DESCRIPTION:Learning to face the challenge of loss and separation is a
 n important part of living a healthy life.  Buddha taught that the en
 d of meeting is parting and the end of birth is death. In this course 
 we will explore profound methods to integrate these truths into our da
 ily life, increasing our well-being and happiness and giving us great 
 strength to support our loved ones during times of immense challenge.\
 nThis course will be taught by Gen Tenzin, with meditations led by Jul
 ie Francisco.\n\nCourse Schedule:\nRegistration: 10:30am-11:00am\nTeac
 hing and Meditation: 11:00am-12:30pm\nLunch Break: 12:30-2:00pm\nTeach
 ing and Meditation: 2:00-4:00pm\n\nThe cost for this event is $30.\n\n
 For more information visit http://phillytodo.com/events/death-re-birth
 -and-karma-a-meditation-day-course
DTSTART:20151121T160000Z
DTEND:20151121T210000Z
CATEGORIES:meditation, class, wellness, buddhism, health, stress
LOCATION:Amitayus Kadampa Buddhist Center
WEBSITE:http://www.meditationinphiladelphia.org/death-re-birth-and-kar
 ma-a-meditation-day-course/
URL:http://www.meditationinphiladelphia.org/death-re-birth-and-karma-a
 -meditation-day-course/
CONTACT:267-702-3817
ORGANIZER:Amitayus Kadampa Buddhist Center
ATTACH;FMTTYPE="image/jpeg":http://storage.ning.com/topology/rest/1.0/
 file/get/3054990321?profile=original
ATTENDEE;ROLE=REQ-PARTICIPANT;PARTSTAT=ACCEPTED;RSVP=TRUE;CN="Educatio
 n Program Coordinator":http://phillytodo.com/profile/EducationProgramC
 oordinator
END:VEVENT
END:VCALENDAR
