BEGIN:VCALENDAR
PRODID:NingEventWidget-v1
VERSION:2.0
METHOD:PUBLISH
BEGIN:VEVENT
UID:4320450:Event:57502
DTSTAMP:20260425T123557Z
SUMMARY:Dealing with Depression through Meditation and Loving Acceptan
 ce
DESCRIPTION:On this day, we will receive time-honored advice and encou
 ragement from traditional sources. These teachings and meditations wil
 l reach directly into our hearts and offer a guiding hand. Through fee
 ling accepted and fully supported, we can begin the journey towards a 
 lighter, freer way of feeling.\nAccording to tradition, it’s through
  our spiritual community that we truly free ourselves from isolation a
 nd depression. We will meet similar people who are making the same jou
 rney.\nWe will discover that we are not alone and that in fact we are 
 surrounded by people who would love to share their lives with us. This
  will open the door to discovering true joy in life and finding your o
 wn personal purpose.\nTaught by Resident Teacher, Gen Tenzin.\nEach se
 ssion builds upon the previous one. It is encouraged to attend all ses
 sions.\n10:30am – 12:00pm: Teaching 1:30 – 2:30pm: Meditation 2:45
  – 4:00pm: Teaching, Discussion, and Q & A\nCost: $40, $20/members\n
 Everyone is welcome.\n\nFor more information visit http://phillytodo.c
 om/events/dealing-with-depression-through-meditation-and-loving-accept
 ance
DTSTART:20190223T153000Z
DTEND:20190223T210000Z
CATEGORIES:meditation, buddhism, mindfulness, wellness, buddhist
LOCATION:Kadampa Meditation Center Philadelphia
WEBSITE:http://www.meditationinphiladelphia.org/dealing-with-depressio
 n-through-meditation-and-loving-acceptance-feb-23/
URL:http://www.meditationinphiladelphia.org/dealing-with-depression-th
 rough-meditation-and-loving-acceptance-feb-23/
CONTACT:267-702-3817
ORGANIZER;CN="Education Program Coordinator":http://phillytodo.com/pro
 file/EducationProgramCoordinator
ATTACH;FMTTYPE="image/jpeg":https://storage.ning.com/topology/rest/1.0
 /file/get/890519278?profile=original
ATTENDEE;ROLE=REQ-PARTICIPANT;PARTSTAT=ACCEPTED;RSVP=TRUE;CN="Educatio
 n Program Coordinator":http://phillytodo.com/profile/EducationProgramC
 oordinator
END:VEVENT
END:VCALENDAR
