BEGIN:VCALENDAR
PRODID:NingEventWidget-v1
VERSION:2.0
METHOD:PUBLISH
BEGIN:VEVENT
UID:4320450:Event:1151
DTSTAMP:20260425T160114Z
SUMMARY:Daydreams Radio
DESCRIPTION:Daydreams Radio, the only strip club radio show in the Phi
 lly area returns Thursday night at 11 on 1360am WNJC and at wnjc1360.c
 om or daydreams.us.\nThis week join special guest host, Ray from the W
 NJC Sports-Maniacs, along with the busty Kyia, raunchy Jolie, and our 
 sexy sexpert Stacy!\n\nThis week we are looking for female beer pong p
 layers to challenge our dancers in a game of beer pong live on the air
 !!\nWe are looking for individual females along with teams of two. You
  must be female and MUST be 21 years of age or older. Ladies who are s
 elected to appear on our show will receive a prize from our sponsor, w
 in or lose!\nFor more information or for consideration, contact us at 
 daydreams.radio@live.com\n\nFor more information visit http://phillyto
 do.com/events/daydreams-radio
DTSTART:20100319T030000Z
DTEND:20100319T040000Z
CATEGORIES:radio
LOCATION:your radio or computer
WEBSITE:http://www.daydreams.us
URL:http://www.daydreams.us
CONTACT:
ORGANIZER;CN="Daydreams Radio":http://phillytodo.com/profile/Daydreams
 Radio
ATTACH;FMTTYPE="image/jpeg":http://storage.ning.com/topology/rest/1.0/
 file/get/3054946656?profile=original
ATTENDEE;ROLE=REQ-PARTICIPANT;PARTSTAT=ACCEPTED;RSVP=TRUE;CN="Daydream
 s Radio":http://phillytodo.com/profile/DaydreamsRadio
END:VEVENT
END:VCALENDAR
