BEGIN:VCALENDAR
PRODID:NingEventWidget-v1
VERSION:2.0
METHOD:PUBLISH
BEGIN:VEVENT
UID:4320450:Event:54615
DTSTAMP:20260425T131028Z
SUMMARY:Day Retreat on the Power of Love
DESCRIPTION:We all want to experience love. Buddha said that love is t
 he ultimate protector. In the short day retreat, we will understand th
 e Buddhist definition of love and learn special meditations for increa
 sing this warm heart. Through these practical methods, we can improve 
 our daily relationships, heal our problems, and benefit everyone we me
 et.\nEveryone is welcome. No previous experience is necessary.\nThis r
 etreat will be led by senior Kadampa Buddhist teachers.\nSchedule of S
 essions:11:00am – 12:00pm1:00 – 2:00pm3:00 – 4:00pm5:00 – 6:00
 pm\nCost: $5/session or $15/day\nStay for all four sessions or drop by
  when you can.\n\nFor more information visit http://phillytodo.com/eve
 nts/day-retreat-on-the-power-of-love
DTSTART:20180224T160000Z
DTEND:20180224T230000Z
CATEGORIES:meditation, buddhism, mindfulness, wellness, buddhist
LOCATION:Kadampa Meditation Center Philadelphia
WEBSITE:http://www.meditationinphiladelphia.org/day-retreat-on-the-pow
 er-of-love-february-24/
URL:http://www.meditationinphiladelphia.org/day-retreat-on-the-power-o
 f-love-february-24/
CONTACT:267-702-3817
ORGANIZER;CN="Education Program Coordinator":http://phillytodo.com/pro
 file/EducationProgramCoordinator
ATTACH;FMTTYPE="image/jpeg":http://storage.ning.com/topology/rest/1.0/
 file/get/3055011367?profile=original
ATTENDEE;ROLE=REQ-PARTICIPANT;PARTSTAT=ACCEPTED;RSVP=TRUE;CN="Educatio
 n Program Coordinator":http://phillytodo.com/profile/EducationProgramC
 oordinator
END:VEVENT
END:VCALENDAR
