BEGIN:VCALENDAR
PRODID:NingEventWidget-v1
VERSION:2.0
METHOD:PUBLISH
BEGIN:VEVENT
UID:4320450:Event:38065
DTSTAMP:20260425T125207Z
SUMMARY:Day-Off Camp: Wissahickon Field Trip
DESCRIPTION:In the Wissahickon Valley, we’ll explore water quality, 
 find hidden trails, and look for the famous Lenape Native American sta
 tue. Please bring shoes that can get wet. Limited to 18 participants.
  $60\nExtended day until 6:00 pm is available for an additional $15/d
 ay.   Full details about Day-Off Camps here.\n\nFor more informatio
 n visit http://phillytodo.com/events/day-off-camp-wissahickon-field-tr
 ip
DTSTART:20141103T130000Z
DTEND:20141103T200000Z
CATEGORIES:kids, families, fun
LOCATION:The Schuylkill Center for Environmental Education
WEBSITE:http://www.schuylkillcenter.org/blog/event/day-off-camp-wissah
 ickon-field-trip/
URL:http://www.schuylkillcenter.org/blog/event/day-off-camp-wissahicko
 n-field-trip/
CONTACT:(215) 482-7300
ORGANIZER;CN="The Schuylkill Center":http://phillytodo.com/profile/Ann
 aLehrMueser
ATTACH;FMTTYPE="image/jpeg":http://storage.ning.com/topology/rest/1.0/
 file/get/3054980246?profile=original
ATTENDEE;ROLE=REQ-PARTICIPANT;PARTSTAT=ACCEPTED;RSVP=TRUE;CN="The Schu
 ylkill Center":http://phillytodo.com/profile/AnnaLehrMueser
END:VEVENT
END:VCALENDAR
