BEGIN:VCALENDAR
PRODID:NingEventWidget-v1
VERSION:2.0
METHOD:PUBLISH
BEGIN:VEVENT
UID:4320450:Event:41811
DTSTAMP:20260425T142620Z
SUMMARY:Day-Off Camp: Winter is Coming
DESCRIPTION:Before the harsh winds arrive and temperatures drop to the
  extreme lows, the environment around us is getting ready for the seas
 onal change. Where do the animals go? Why do plants shut down? We’ll
  explore an autumn Schuylkill Center and learn the signs that prepare 
 us for winter.\nFor ages 5-12 | Non-members $60 | Members $50\nExtend
 ed day until 6:00 pm is available for an additional $15/day. Pre-regi
 stration is required.\nDetails on Day-Off Camps and registration here
 .  Register online here.\n\nFor more information visit http://philly
 todo.com/events/day-off-camp-winter-is-coming
DTSTART:20151111T130000Z
DTEND:20151111T200000Z
CATEGORIES:camp
LOCATION:Schuylkill Center for Environmental Education
WEBSITE:http://www.schuylkillcenter.org/
URL:http://www.schuylkillcenter.org/
CONTACT:215-482-7300, x110
ORGANIZER;CN="The Schuylkill Center":http://phillytodo.com/profile/Ann
 aLehrMueser
ATTACH;FMTTYPE="image/jpeg":http://storage.ning.com/topology/rest/1.0/
 file/get/3054990527?profile=original
ATTENDEE;ROLE=REQ-PARTICIPANT;PARTSTAT=ACCEPTED;RSVP=TRUE;CN="The Schu
 ylkill Center":http://phillytodo.com/profile/AnnaLehrMueser
END:VEVENT
END:VCALENDAR
