BEGIN:VCALENDAR
PRODID:NingEventWidget-v1
VERSION:2.0
METHOD:PUBLISH
BEGIN:VEVENT
UID:4320450:Event:38689
DTSTAMP:20260425T125005Z
SUMMARY:Day-Off Camp: Winter Break Camp
DESCRIPTION:Explore our winter wonderland!  The Schuylkill Center tak
 es on a different look in the winter season.  See hills and valleys t
 hat are lost in the spring and summer foliage, the remains of trails l
 ong forgotten, and ruins from decades, even centuries, ago.\nCamp runs
  daily Monday, December 29 – Wednesday, December 31, and Friday, Jan
 uary 2.  No camp Thursday, January 1.\nRegister for as many days as y
 ou like!\nExtended day until 6:00 pm is available for an additional $1
 5/day.   Full details about Day-Off Camps here.\nRegister online h
 ere.\n$60/day\n\nFor more information visit http://phillytodo.com/even
 ts/day-off-camp-winter-break-camp
DTSTART:20141230T010000Z
DTEND:20150102T200000Z
CATEGORIES:day-off, camp, for, when, the, kids, have, day, off, and, y
 ou, "don't!"
LOCATION:The Schuylkill Center for Environmental Education
WEBSITE:http://www.schuylkillcenter.org/
URL:http://www.schuylkillcenter.org/
CONTACT:215-482-7300, x110
ORGANIZER;CN="The Schuylkill Center":http://phillytodo.com/profile/Ann
 aLehrMueser
ATTACH;FMTTYPE="image/jpeg":http://storage.ning.com/topology/rest/1.0/
 file/get/3054981560?profile=original
ATTENDEE;ROLE=REQ-PARTICIPANT;PARTSTAT=ACCEPTED;RSVP=TRUE;CN="The Schu
 ylkill Center":http://phillytodo.com/profile/AnnaLehrMueser
END:VEVENT
END:VCALENDAR
