BEGIN:VCALENDAR
PRODID:NingEventWidget-v1
VERSION:2.0
METHOD:PUBLISH
BEGIN:VEVENT
UID:4320450:Event:47148
DTSTAMP:20260425T125036Z
SUMMARY:Day-Off Camp: Water Watchers
DESCRIPTION:Explore our waterways, from ponds and wetlands to streams 
 and the Schuylkill River.  We’ll take a close look at these aquatic
  ecosystems, play in the streams, and take a hike through our forests 
 to the Schuylkill River.\nFor ages 5 – 12. Pre-registration is requ
 ired.\n\nFor more information visit http://phillytodo.com/events/day-o
 ff-camp-water-watchers
DTSTART:20160930T120000Z
DTEND:20160930T190000Z
CATEGORIES:camp
LOCATION:The Schuylkill Center
WEBSITE:http://www.schuylkillcenter.org/blog/event/day-off-camp-water-
 watchers/
URL:http://www.schuylkillcenter.org/blog/event/day-off-camp-water-watc
 hers/
CONTACT:215-482-7300
ORGANIZER;CN="The Schuylkill Center":http://phillytodo.com/profile/Ann
 aLehrMueser
ATTACH;FMTTYPE="image/jpeg":http://storage.ning.com/topology/rest/1.0/
 file/get/3054998054?profile=original
ATTENDEE;ROLE=REQ-PARTICIPANT;PARTSTAT=ACCEPTED;RSVP=TRUE;CN="The Schu
 ylkill Center":http://phillytodo.com/profile/AnnaLehrMueser
END:VEVENT
END:VCALENDAR
