BEGIN:VCALENDAR
PRODID:NingEventWidget-v1
VERSION:2.0
METHOD:PUBLISH
BEGIN:VEVENT
UID:4320450:Event:47158
DTSTAMP:20260425T144616Z
SUMMARY:Day-Off Camp: The Science of Food
DESCRIPTION:What makes peppers spicy? Why does dough rise? How importa
 nt are farms? We’ll find out all about food in this delicious day. W
 e’ll also hike to find edible plants and taste them.\nFor ages 5 –
  12. Pre-registration is required.\n\nFor more information visit http
 ://phillytodo.com/events/day-off-camp-the-science-of-food-2
DTSTART:20161108T130000Z
DTEND:20161108T200000Z
CATEGORIES:camp
LOCATION:The Schuylkill Center
WEBSITE:http://www.schuylkillcenter.org/blog/event/day-off-camp-the-sc
 ience-of-food/
URL:http://www.schuylkillcenter.org/blog/event/day-off-camp-the-scienc
 e-of-food/
CONTACT:215-482-7300
ORGANIZER;CN="The Schuylkill Center":http://phillytodo.com/profile/Ann
 aLehrMueser
ATTACH;FMTTYPE="image/jpeg":http://storage.ning.com/topology/rest/1.0/
 file/get/3054998316?profile=original
ATTENDEE;ROLE=REQ-PARTICIPANT;PARTSTAT=ACCEPTED;RSVP=TRUE;CN="The Schu
 ylkill Center":http://phillytodo.com/profile/AnnaLehrMueser
END:VEVENT
END:VCALENDAR
