BEGIN:VCALENDAR
PRODID:NingEventWidget-v1
VERSION:2.0
METHOD:PUBLISH
BEGIN:VEVENT
UID:4320450:Event:41743
DTSTAMP:20260425T142743Z
SUMMARY:Day-Off Camp: Shelters & Houses
DESCRIPTION:This day is for the builder in all of us. Draw from the en
 vironment for all our materials and supplies, we’ll make forts, shel
 ters, and houses in our Pine Grove. And the greatest part will be seei
 ng if we can knock them down.\nFor ages 5-12 | Non-members $60 | Memb
 ers $50\nExtended day until 6:00 pm is available for an additional $15
 /day. Pre-registration is required.\nDetails on Day-Off Camps and reg
 istration here.  Register online here.\n\nFor more information visi
 t http://phillytodo.com/events/day-off-camp-shelters-houses-1
DTSTART:20151009T120000Z
DTEND:20151009T190000Z
CATEGORIES:camp
LOCATION:Schuylkill Center for Environmental Education
WEBSITE:http://www.schuylkillcenter.org/
URL:http://www.schuylkillcenter.org/
CONTACT:215-482-7300, x110
ORGANIZER;CN="The Schuylkill Center":http://phillytodo.com/profile/Ann
 aLehrMueser
ATTACH;FMTTYPE="image/jpeg":http://storage.ning.com/topology/rest/1.0/
 file/get/3054989879?profile=original
ATTENDEE;ROLE=REQ-PARTICIPANT;PARTSTAT=ACCEPTED;RSVP=TRUE;CN="The Schu
 ylkill Center":http://phillytodo.com/profile/AnnaLehrMueser
END:VEVENT
END:VCALENDAR
