BEGIN:VCALENDAR
PRODID:NingEventWidget-v1
VERSION:2.0
METHOD:PUBLISH
BEGIN:VEVENT
UID:4320450:Event:41645
DTSTAMP:20260425T125024Z
SUMMARY:Day-Off Camp: Rocks & Minerals
DESCRIPTION:This is a day all about the earth sciences. We are going t
 o our Rock Pile to study rocks that are abundant in this part of Penns
 ylvania.  After lunch we’ll hike through our forests to a mysteriou
 s historic site known as The Quarry.\nFor ages 5-12 | $60 Non-members 
 | $50 Members\nExtended day until 6:00 pm is available for an addition
 al $15/day. Pre-registration is required.\nDetails on Day-Off Camps a
 nd registration here.  Register online here.\n\nFor more informatio
 n visit http://phillytodo.com/events/day-off-camp-rocks-minerals
DTSTART:20150924T120000Z
DTEND:20150924T190000Z
CATEGORIES:camp, rocks
LOCATION:Schuylkill Center for Environmental Education
WEBSITE:http://www.schuylkillcenter.org/
URL:http://www.schuylkillcenter.org/
CONTACT:215-482-7300, x110
ORGANIZER;CN="The Schuylkill Center":http://phillytodo.com/profile/Ann
 aLehrMueser
ATTACH;FMTTYPE="image/jpeg":http://storage.ning.com/topology/rest/1.0/
 file/get/3054988874?profile=original
ATTENDEE;ROLE=REQ-PARTICIPANT;PARTSTAT=ACCEPTED;RSVP=TRUE;CN="The Schu
 ylkill Center":http://phillytodo.com/profile/AnnaLehrMueser
END:VEVENT
END:VCALENDAR
