BEGIN:VCALENDAR
PRODID:NingEventWidget-v1
VERSION:2.0
METHOD:PUBLISH
BEGIN:VEVENT
UID:4320450:Event:41830
DTSTAMP:20260425T160313Z
SUMMARY:Day-Off Camp: Rock Climbing
DESCRIPTION:We’ll take to the ropes and see how high we can climb. W
 arehouses all across the nation are being turned into exciting indoor 
 rock climbing spaces. These skills can build balance and coordination,
  while also translating into natural rock skills. Ages 6 and up.\nFor 
 ages 5-12 | $60 Non-members | $50 Members\nField trip fee: $17\nExtend
 ed day until 6:00 pm is available for an additional $15/day. Pre-regi
 stration is required.\nDetails on Day-Off Camps and registration here
 .  Register online here.\n\nFor more information visit http://philly
 todo.com/events/day-off-camp-rock-climbing
DTSTART:20150914T120000Z
DTEND:20150914T190000Z
CATEGORIES:camp, rock, climbing
LOCATION:Schuylkill Center for Environmental Education
WEBSITE:http://www.schuylkillcenter.org/
URL:http://www.schuylkillcenter.org/
CONTACT:215-482-7300, x110
ORGANIZER;CN="The Schuylkill Center":http://phillytodo.com/profile/Ann
 aLehrMueser
ATTACH;FMTTYPE="image/jpeg":http://storage.ning.com/topology/rest/1.0/
 file/get/3054990036?profile=original
ATTENDEE;ROLE=REQ-PARTICIPANT;PARTSTAT=ACCEPTED;RSVP=TRUE;CN="The Schu
 ylkill Center":http://phillytodo.com/profile/AnnaLehrMueser
END:VEVENT
END:VCALENDAR
