BEGIN:VCALENDAR
PRODID:NingEventWidget-v1
VERSION:2.0
METHOD:PUBLISH
BEGIN:VEVENT
UID:4320450:Event:47025
DTSTAMP:20260425T142619Z
SUMMARY:Day-Off Camp: Rock Climbing
DESCRIPTION:On this adventurous day we’re heading to the rock gym to
  learn the basics of the craft. With the help of local experts, we’l
 l test our limits at Go Vertical climbing gym. How high can we go? Let
 ’s find out!\nAges 5 – 12. Pre-registration required.\n\nFor more 
 information visit http://phillytodo.com/events/day-off-camp-rock-climb
 ing-1
DTSTART:20161003T120000Z
DTEND:20161003T190000Z
CATEGORIES:camp
LOCATION:The Schuylkill Center
WEBSITE:http://www.schuylkillcenter.org/blog/event/day-off-camp-rock-c
 limbing-2/
URL:http://www.schuylkillcenter.org/blog/event/day-off-camp-rock-climb
 ing-2/
CONTACT:215-482-7300
ORGANIZER;CN="The Schuylkill Center":http://phillytodo.com/profile/Ann
 aLehrMueser
ATTACH;FMTTYPE="image/jpeg":http://storage.ning.com/topology/rest/1.0/
 file/get/3054996784?profile=original
ATTENDEE;ROLE=REQ-PARTICIPANT;PARTSTAT=ACCEPTED;RSVP=TRUE;CN="The Schu
 ylkill Center":http://phillytodo.com/profile/AnnaLehrMueser
END:VEVENT
END:VCALENDAR
