BEGIN:VCALENDAR
PRODID:NingEventWidget-v1
VERSION:2.0
METHOD:PUBLISH
BEGIN:VEVENT
UID:4320450:Event:47151
DTSTAMP:20260425T160113Z
SUMMARY:Day-Off Camp: Ringing Rocks
DESCRIPTION:We’ll explore the unique Ringing Rocks boulder field wh
 ere the stones, some piled ten feet tall, ring like bells when hit wit
 h a hammer. These rocks, with few plants growing on them, offer a stra
 nge puzzle which has baffled scientists for decades.  We’ll hike ou
 t to the rocks and find out which ones sing (hint, it’s only one-thi
 rd of them) on this fall field trip.\nFor ages 5 – 12. Pre-registra
 tion is required.\n\nFor more information visit http://phillytodo.com/
 events/day-off-camp-ringing-rocks
DTSTART:20161004T120000Z
DTEND:20161004T190000Z
CATEGORIES:camp
LOCATION:The Schuylkill Center
WEBSITE:http://www.schuylkillcenter.org/blog/event/day-off-camp-ringin
 g-rocks-2/
URL:http://www.schuylkillcenter.org/blog/event/day-off-camp-ringing-ro
 cks-2/
CONTACT:215-482-7300
ORGANIZER;CN="The Schuylkill Center":http://phillytodo.com/profile/Ann
 aLehrMueser
ATTACH;FMTTYPE="image/jpeg":http://storage.ning.com/topology/rest/1.0/
 file/get/3054998404?profile=original
ATTENDEE;ROLE=REQ-PARTICIPANT;PARTSTAT=ACCEPTED;RSVP=TRUE;CN="The Schu
 ylkill Center":http://phillytodo.com/profile/AnnaLehrMueser
END:VEVENT
END:VCALENDAR
