BEGIN:VCALENDAR
PRODID:NingEventWidget-v1
VERSION:2.0
METHOD:PUBLISH
BEGIN:VEVENT
UID:4320450:Event:38346
DTSTAMP:20260425T125006Z
SUMMARY:Day-Off Camp: Mad Scientist
DESCRIPTION:Mwahahahaha! We’ll be looking at the weirder side of sci
 ence: goos and oozes. What will you make that can take over the forest
 ? We’ll start in the lab, then end the day launching our inventions 
 into the sky. $60\nExtended day until 6:00 pm is available for an add
 itional $15/day.  Full details about Day-Off Camps here.\n\nFor more
  information visit http://phillytodo.com/events/day-off-camp-mad-scien
 tist
DTSTART:20140926T120000Z
DTEND:20140926T190000Z
CATEGORIES:kids, families, fun
LOCATION:The Schuylkill Center for Environmental Education
WEBSITE:http://www.schuylkillcenter.org/blog/event/day-off-camp-mad-sc
 ientist/
URL:http://www.schuylkillcenter.org/blog/event/day-off-camp-mad-scient
 ist/
CONTACT:(215) 482-7300
ORGANIZER;CN="The Schuylkill Center":http://phillytodo.com/profile/Ann
 aLehrMueser
ATTACH;FMTTYPE="image/jpeg":http://storage.ning.com/topology/rest/1.0/
 file/get/3054980093?profile=original
ATTENDEE;ROLE=REQ-PARTICIPANT;PARTSTAT=ACCEPTED;RSVP=TRUE;CN="The Schu
 ylkill Center":http://phillytodo.com/profile/AnnaLehrMueser
END:VEVENT
END:VCALENDAR
