BEGIN:VCALENDAR
PRODID:NingEventWidget-v1
VERSION:2.0
METHOD:PUBLISH
BEGIN:VEVENT
UID:4320450:Event:41642
DTSTAMP:20260425T141343Z
SUMMARY:Day-Off Camp: Mad Scientist
DESCRIPTION:What makes a mad scientist? Someone who is not afraid to p
 ush boundaries and find the extremes of scientific inquiry. We’ll be
  looking at all things weird and finding practical and non-practical f
 unctions for all of these wonderfully quirky experiments\nFor ages 5-1
 2 | $60 Non-members | $50 Members\nExtended day until 6:00 pm is avail
 able for an additional $15/day. Pre-registration is required.\nDetail
 s on Day-Off Camps and registration here.  Register online here.\n\
 nFor more information visit http://phillytodo.com/events/day-off-camp-
 mad-scientist-1
DTSTART:20150925T120000Z
DTEND:20150925T190000Z
CATEGORIES:camp, science
LOCATION:Schuylkill Center for Environmental Education
WEBSITE:http://www.schuylkillcenter.org/
URL:http://www.schuylkillcenter.org/
CONTACT:215-482-7300, x110
ORGANIZER;CN="The Schuylkill Center":http://phillytodo.com/profile/Ann
 aLehrMueser
ATTACH;FMTTYPE="image/jpeg":http://storage.ning.com/topology/rest/1.0/
 file/get/3054988813?profile=original
ATTENDEE;ROLE=REQ-PARTICIPANT;PARTSTAT=ACCEPTED;RSVP=TRUE;CN="The Schu
 ylkill Center":http://phillytodo.com/profile/AnnaLehrMueser
END:VEVENT
END:VCALENDAR
