BEGIN:VCALENDAR
PRODID:NingEventWidget-v1
VERSION:2.0
METHOD:PUBLISH
BEGIN:VEVENT
UID:4320450:Event:41636
DTSTAMP:20260425T144254Z
SUMMARY:Day-Off Camp: Leaf & Seed Collecting
DESCRIPTION:We’ll collect all leaves and seeds that fall in the autu
 mn and combine them into nature journals. No writing required, we’ll
  let the leaves and seeds do all the talking. How many colors and shap
 es can you collect?\nFor ages 5-12 | $60 Non-members | $50 Members \n
 Extended day until 6:00 pm is available for an additional $15/day. Pr
 e-registration is required.\nDetails on Day-Off Camps and registration
  here.  Register online here.\n\nFor more information visit http://
 phillytodo.com/events/day-off-camp-leaf-seed-collecting
DTSTART:20151012T120000Z
DTEND:20151012T190000Z
CATEGORIES:camp
LOCATION:Schuylkill Center for Environmental Education
WEBSITE:http://www.schuylkillcenter.org/
URL:http://www.schuylkillcenter.org/
CONTACT:215-482-7300, x110
ORGANIZER;CN="The Schuylkill Center":http://phillytodo.com/profile/Ann
 aLehrMueser
ATTACH;FMTTYPE="image/jpeg":http://storage.ning.com/topology/rest/1.0/
 file/get/3054988604?profile=original
ATTENDEE;ROLE=REQ-PARTICIPANT;PARTSTAT=ACCEPTED;RSVP=TRUE;CN="The Schu
 ylkill Center":http://phillytodo.com/profile/AnnaLehrMueser
END:VEVENT
END:VCALENDAR
