BEGIN:VCALENDAR
PRODID:NingEventWidget-v1
VERSION:2.0
METHOD:PUBLISH
BEGIN:VEVENT
UID:4320450:Event:47221
DTSTAMP:20260425T124905Z
SUMMARY:Day-Off Camp: Fall Colors
DESCRIPTION:The beautiful fall colors have returned in full. Today weâ
 €™re making fall journals â€“ come collect the most beautiful leaves o
 f the fall and press them into a book to take home.\nFor ages 5 â€“ 12
 .Â Pre-registration is required.\n\nFor more information visit http://
 phillytodo.com/events/day-off-camp-fall-colors
DTSTART:20161012T120000Z
DTEND:20161012T190000Z
CATEGORIES:camp
LOCATION:The Schuylkill Center
WEBSITE:http://www.schuylkillcenter.org/blog/event/day-off-camp-fall-c
 olors/
URL:http://www.schuylkillcenter.org/blog/event/day-off-camp-fall-color
 s/
CONTACT:215-482-7300
ORGANIZER;CN="The Schuylkill Center":http://phillytodo.com/profile/Ann
 aLehrMueser
ATTACH;FMTTYPE="image/jpeg":http://storage.ning.com/topology/rest/1.0/
 file/get/3054998543?profile=original
ATTENDEE;ROLE=REQ-PARTICIPANT;PARTSTAT=ACCEPTED;RSVP=TRUE;CN="The Schu
 ylkill Center":http://phillytodo.com/profile/AnnaLehrMueser
END:VEVENT
END:VCALENDAR
