BEGIN:VCALENDAR
PRODID:NingEventWidget-v1
VERSION:2.0
METHOD:PUBLISH
BEGIN:VEVENT
UID:4320450:Event:38493
DTSTAMP:20260425T160212Z
SUMMARY:Day-Off Camp: Digging Geology
DESCRIPTION:Weâ€™ll grab hammers and picks and check out whatâ€™s insi
 de stones.Â  What is the difference between a stone and a mineral?Â  W
 hat is the earth made from?Â  Weâ€™ll head out to the rock pile to pla
 y, dig, and learn all about rocks.Â  Last, weâ€™ll explore a hidden sp
 ot at the farthest corner of our property, one we hardly ever get toâ€
 ”except now: the quarry!\nExtended day until 6:00 pm is available for 
 an additional $15/day. Â Â Full details about Day-Off CampsÂ here.\nRe
 gister onlineÂ here.\n$60\n\nFor more information visit http://phillyt
 odo.com/events/day-off-camp-digging-geology
DTSTART:20150216T130000Z
DTEND:20150216T200000Z
CATEGORIES:day-off, camp, for, when, the, kids, have, day, off, and, y
 ou, "don't!"
LOCATION:Schuylkill Center for Environmental Education
WEBSITE:http://www.schuylkillcenter.org/
URL:http://www.schuylkillcenter.org/
CONTACT:215-482-7300, x110
ORGANIZER;CN="The Schuylkill Center":http://phillytodo.com/profile/Ann
 aLehrMueser
ATTACH;FMTTYPE="image/jpeg":http://storage.ning.com/topology/rest/1.0/
 file/get/3054981594?profile=original
ATTENDEE;ROLE=REQ-PARTICIPANT;PARTSTAT=ACCEPTED;RSVP=TRUE;CN="The Schu
 ylkill Center":http://phillytodo.com/profile/AnnaLehrMueser
END:VEVENT
END:VCALENDAR
