BEGIN:VCALENDAR
PRODID:NingEventWidget-v1
VERSION:2.0
METHOD:PUBLISH
BEGIN:VEVENT
UID:4320450:Event:38260
DTSTAMP:20260425T125818Z
SUMMARY:Day-Off Camp: Collecting Fall Colors
DESCRIPTION:We’ll make our very own nature journals with the leaves 
 and seeds that fall in the autumn. No writing required, we’ll let th
 e leaves and seeds do all the talking. How many colors and shapes can 
 you collect? $60\nExtended day until 6:00 pm is available for an addi
 tional $15/day.   Full details about Day-Off Camps here.\n\nFor mor
 e information visit http://phillytodo.com/events/day-off-camp-collecti
 ng-fall-colors
DTSTART:20141013T120000Z
DTEND:20141013T190000Z
CATEGORIES:kids, families, fun
LOCATION:The Schuylkill Center for Environmental Education
WEBSITE:http://www.schuylkillcenter.org/blog/event/day-off-camp-collec
 ting-fall-colors/
URL:http://www.schuylkillcenter.org/blog/event/day-off-camp-collecting
 -fall-colors/
CONTACT:(215) 482-7300
ORGANIZER;CN="The Schuylkill Center":http://phillytodo.com/profile/Ann
 aLehrMueser
ATTACH;FMTTYPE="image/jpeg":http://storage.ning.com/topology/rest/1.0/
 file/get/3054980020?profile=original
ATTENDEE;ROLE=REQ-PARTICIPANT;PARTSTAT=ACCEPTED;RSVP=TRUE;CN="The Schu
 ylkill Center":http://phillytodo.com/profile/AnnaLehrMueser
END:VEVENT
END:VCALENDAR
