BEGIN:VCALENDAR
PRODID:NingEventWidget-v1
VERSION:2.0
METHOD:PUBLISH
BEGIN:VEVENT
UID:4320450:Event:41458
DTSTAMP:20260425T125006Z
SUMMARY:Day-Off Camp: Back to School Blast!
DESCRIPTION:Before school starts and you’re back behind a desk, come
  stretch your legs on our beautiful 340 acres. This week is all about 
 getting us ready for the school year while enjoying the best parts of 
 summer. We’ll hike to the far stretches of the Schuylkill Center, fi
 nd summer creatures getting ready for fall, and canoe on Wind Dance Po
 nd. Sign up for a single day, or the whole week.\nFor ages 5-12 | $60 
 Non-members | $50 Members\nExtended day until 6:00 pm is available for
  an additional $15/day. Pre-registration is required.\nRegister onlin
 e here.\n\nFor more information visit http://phillytodo.com/events/da
 y-off-camp-back-to-school-blast
DTSTART:20150831T120000Z
DTEND:20150831T190000Z
CATEGORIES:camp
LOCATION:Schuylkill Center for Environmental Education
WEBSITE:http://www.schuylkillcenter.org/
URL:http://www.schuylkillcenter.org/
CONTACT:215-482-7300, x110
ORGANIZER;CN="The Schuylkill Center":http://phillytodo.com/profile/Ann
 aLehrMueser
ATTACH;FMTTYPE="image/jpeg":http://storage.ning.com/topology/rest/1.0/
 file/get/3054989537?profile=original
ATTENDEE;ROLE=REQ-PARTICIPANT;PARTSTAT=ACCEPTED;RSVP=TRUE;CN="The Schu
 ylkill Center":http://phillytodo.com/profile/AnnaLehrMueser
END:VEVENT
END:VCALENDAR
