BEGIN:VCALENDAR
PRODID:NingEventWidget-v1
VERSION:2.0
METHOD:PUBLISH
BEGIN:VEVENT
UID:4320450:Event:47903
DTSTAMP:20260425T143316Z
SUMMARY:Day of the Dead - Halloween Night in Philadelphia
DESCRIPTION:Join us Halloween Night at CODA for Day of the Dead - a pa
 rty like you've never seen before! CODA is the primer place to spend y
 our Halloween.  This event is FREE to attend with your RSVP and inclu
 des two complimentary Modelo Beers upon entry PLUS complimentary sampl
 es of Casa Noble tequila (amazing), Svedka Vodka, and Serpents Bite Ap
 ple Cider Whisky!\n\nThe night will include music by DJ Brosco & DJ Da
 ily, as well as professional face painters to paint you in traditional
  Catrina Sugar Skull Art! Come dressed to impress - there will be a co
 stume contest with cash and prizes over $1,000!\nAbout CODA  Coda is P
 hiladelphia’s premier live performance venue, nightclub, and event s
 pace. Located within the busy Rittenhouse Square neighborhood of downt
 own Philadelphia, the venue regularly showcases live performances and 
 DJ sets from some of the newest, most talented artists in music, and h
 osts acts that span many genres — from indie rock to electronic, tri
 bute acts, jam bands, pop, and more.  UpcomingEvents.com and our spons
 ors remind you to please drink responsibly.\n\nFor more information vi
 sit http://phillytodo.com/events/day-of-the-dead-halloween-night-in-ph
 iladelphia
DTSTART:20161101T020000Z
DTEND:20161101T070000Z
CATEGORIES:halloween
LOCATION:CODA
WEBSITE:http://www.upcomingevents.com/e/day-of-the-dead-halloween-nigh
 t-in-philadelphia-27564/?ref=ptodo
URL:http://www.upcomingevents.com/e/day-of-the-dead-halloween-night-in
 -philadelphia-27564/?ref=ptodo
CONTACT:
ORGANIZER;CN="UpcomingEvents.com":http://phillytodo.com/profile/Upcomi
 ngEventscom
ATTACH;FMTTYPE="image/jpeg":http://storage.ning.com/topology/rest/1.0/
 file/get/3054998780?profile=original
ATTENDEE;ROLE=REQ-PARTICIPANT;PARTSTAT=ACCEPTED;RSVP=TRUE;CN="Upcoming
 Events.com":http://phillytodo.com/profile/UpcomingEventscom
END:VEVENT
END:VCALENDAR
