BEGIN:VCALENDAR
PRODID:NingEventWidget-v1
VERSION:2.0
METHOD:PUBLISH
BEGIN:VEVENT
UID:4320450:Event:9205
DTSTAMP:20260425T141341Z
SUMMARY:Davio's Philadelphia offers a royal dessert!
DESCRIPTION:In celebration of the much anticipated Royal event, Davioâ
 €™s Philadelphia is offering a specialty dessert to honor Prince Willi
 am and Kate Middletonâ€™s union. Inspired by the coupleâ€™s traditiona
 l wedding cake, Pastry Chef Thomas Heck, has created his own Royal Des
 sert which will be available from the day of the royal wedding on Frid
 ay, April 29th, 2011 to the end of May 2011.Â  Enjoy a taste of royalt
 y for $10.00 at Davioâ€™s Philadelphia!\nÂ \nÂ \nDessert Recipe\nÂ \n1
 2oz Bittersweet Dark Chocolate\nÂ \n4oz Butter\nÂ \n1 Can Condensed Sw
 eetened Milk\nÂ \n1-2 packs McVities Biscuts\nÂ \nAlmonds and Currents
 \nÂ \n*This is a Molded and Chilled Dessert\nÂ \nCovered in Ganache\nÂ
  Â  Â \nÂ Â Â Â Garnished with Glazed Cherries\nÂ \nÂ \nWHERE:Â Â Â Â 
 Â Â Â Â Â Â Davio's Philadelphia | 111 South 17th Street, Philadelphia
 , PA 19103 | 215-563Â  4810 | www.davios.com.\nÂ \nWHEN:Â Â Â Â Â Â Â 
 Â Â Â Â Â  From Friday, April 29th, 2011 to Tuesday, May 31st, 2011.\n
 Â \nCOST:Â Â Â Â Â Â Â Â Â Â Â Â  $10.00. For more information, please
  call 215-563-4810 for more information.Â \nÂ \nÂ \n\nFor more informa
 tion visit http://phillytodo.com/events/davios-philadelphia-offers-a
DTSTART:20110429T040000Z
DTEND:20110601T035900Z
CATEGORIES:special, offer
LOCATION:Davio's Philadelphia
WEBSITE:
URL:
CONTACT:
ORGANIZER;CN="Juliette V":http://phillytodo.com/profile/JulietteV
ATTACH;FMTTYPE="image/jpeg":http://storage.ning.com/topology/rest/1.0/
 file/get/3054954242?profile=original
ATTENDEE;ROLE=REQ-PARTICIPANT;PARTSTAT=ACCEPTED;RSVP=TRUE;CN="Juliette
  V":http://phillytodo.com/profile/JulietteV
END:VEVENT
END:VCALENDAR
