BEGIN:VCALENDAR
PRODID:NingEventWidget-v1
VERSION:2.0
METHOD:PUBLISH
BEGIN:VEVENT
UID:4320450:Event:168826
DTSTAMP:20260425T130615Z
SUMMARY:David's Bridal $99 &amp; Under Warehouse Sale
DESCRIPTION:Mark your calendars, get your shopping shoes on, and get r
 eady for our first ever warehouse sale at the Greater Philadelphia Exp
 o Center!\n\nAll the details:\n\nInventory: Shop 25,0000 styles, inclu
 ding $99 wedding gowns, $20 bridesmaid and occasion dresses, $10 robes
 , $5 shoes and accessories.\n\nFrontline Fierce: Frontline workers get
  early access Friday, Sept. 24, 9am-11am + the first 100 receive a goo
 die bag filled with prizes. While supplies last, must present a valid 
 I.D.\n\nCar Giveaway: That's right, you can enter to win a car! Entrie
 s will be accepted until Friday, September 26 at 5pm. Winner drawn on 
 Sunday, September 26 at 5:01pm. Winner must be present to win!\n\n:30 
 Shopping Spree: Enter to win the chance to fill your cart in 30 second
 s—and get everything you pick up completely free! Shopping spree occ
 urs every top of the hour, all three days.\n\nOperation Deploy Your Dr
 ess: Give back to military servicewomen and spouses by donating new or
  gently used dresses all weekend long.\n\nFor more information visit h
 ttp://phillytodo.com/events/david-s-bridal-99-amp-under-warehouse-sale
DTSTART:20210924T160000Z
DTEND:20210926T210000Z
CATEGORIES:bridal, expo
LOCATION:The Greater Philadelphia Expo Center
WEBSITE:
URL:
CONTACT:
ORGANIZER;CN=CashmanAssoc:http://phillytodo.com/profile/CashmanAssoc
ATTACH;FMTTYPE="image/jpeg":https://storage.ning.com/topology/rest/1.0
 /file/get/9547718880?profile=original
ATTENDEE;ROLE=REQ-PARTICIPANT;PARTSTAT=ACCEPTED;RSVP=TRUE;CN=CashmanAs
 soc:http://phillytodo.com/profile/CashmanAssoc
END:VEVENT
END:VCALENDAR
