BEGIN:VCALENDAR
PRODID:NingEventWidget-v1
VERSION:2.0
METHOD:PUBLISH
BEGIN:VEVENT
UID:4320450:Event:45802
DTSTAMP:20260425T131000Z
SUMMARY:Daughter at Valley Forge Casino Resort Music Fair
DESCRIPTION:Valley Forge Casino Resort Music Fair at the Valley Forge 
 Casino Resort (1160 First Avenue) presents Daughtry on Memorial Day We
 ekend on Sunday, May 29, 2016. In the course of only five years, Chris
  Daughtry has had more than his share of career highlights. The singer
 , songwriter, and musician from North Carolina has released back-to-ba
 ck No. 1 albums, the 4x-platinum DAUGHTRY (which became the fastest-se
 lling rock debut in Soundscan history) and 2009s platinum Leave This T
 own. DAUGHTRY has scored four No. 1 Top 40 hits (Its Not Over, Home, F
 eels Like Tonight, and No Surprise), earned four Grammy Award nominati
 ons (including Best Rock Album for DAUGHTRY) and  won four American M
 usic Awards. Doors will open at 7:00pm, with the show starting at 8:00
 pm. Tickets are on sale now at Ticketmaster for $37.00 to $109.00 each
 \n\nFor more information visit http://phillytodo.com/events/daughter-a
 t-valley-forge-casino-resort-music-fair
DTSTART:20160530T000000Z
DTEND:20160530T020000Z
CATEGORIES:concert
LOCATION:Valley Forge Casino Resort
WEBSITE:https://www.vfcasino.com/events/daughtry/
URL:https://www.vfcasino.com/events/daughtry/
CONTACT:
ORGANIZER;CN="Aversa PR & Events":http://phillytodo.com/profile/KoryAv
 ersa277
ATTACH;FMTTYPE="image/jpeg":http://storage.ning.com/topology/rest/1.0/
 file/get/3054995852?profile=original
ATTENDEE;ROLE=REQ-PARTICIPANT;PARTSTAT=ACCEPTED;RSVP=TRUE;CN="Aversa P
 R & Events":http://phillytodo.com/profile/KoryAversa277
END:VEVENT
END:VCALENDAR
