BEGIN:VCALENDAR
PRODID:NingEventWidget-v1
VERSION:2.0
METHOD:PUBLISH
BEGIN:VEVENT
UID:4320450:Event:28621
DTSTAMP:20260425T144254Z
SUMMARY:Dance with the Devil Party
DESCRIPTION:Devil’s Alley Bar & Grille, 1907 Chestnut Street,  kick
 s open its fiery gates for a red hot night of Halloween mischief.  On
  Saturday, October 27, 2012, the Devil himself invites you to show off
  your devilish side for the Dancing with the Devil Party.  From 9:00
 pm to 2:00m, the Devil mixes tunes on the dance floor and spirited dri
 nks at the bar.  Festivities will include a DJ, dancing, costume cont
 est, free prizes, adult apple bobbing, drink specials, free snacks, Sk
 yy models, Skyy shots and more. Party is free and open to ages 21 and 
 older. For more info, call (215) 751-0707, visit www.devilsalleybaran
 dgrill.com , follow @devilsalley on Twitter or like “Devil’s Alley
 ” on Facebook.com.\n\nFor more information visit http://phillytodo.c
 om/events/dance-with-the-devil-party
DTSTART:20121028T010000Z
DTEND:20121028T060000Z
CATEGORIES:halloween, party
LOCATION:Devil's Alley
WEBSITE:https://www.facebook.com/events/249779015144555/?ref=ts&fref=t
 s
URL:https://www.facebook.com/events/249779015144555/?ref=ts&fref=ts
CONTACT:
ORGANIZER;CN="Aversa PR & Events":http://phillytodo.com/profile/KoryAv
 ersa277
ATTACH;FMTTYPE="image/jpeg":
ATTENDEE;ROLE=REQ-PARTICIPANT;PARTSTAT=ACCEPTED;RSVP=TRUE;CN="Aversa P
 R & Events":http://phillytodo.com/profile/KoryAversa277
END:VEVENT
END:VCALENDAR
