BEGIN:VCALENDAR
PRODID:NingEventWidget-v1
VERSION:2.0
METHOD:PUBLISH
BEGIN:VEVENT
UID:4320450:Event:1864
DTSTAMP:20260425T173456Z
SUMMARY:Dan Reed (of Dan Reed Network) Acoustic Performance
DESCRIPTION:Dan Reed\nFirst making his name when the Dan Reed Network 
 burst onto the international rock scene in the late 1980s, Dan Reed le
 d his multi-ethnic band of funk rockers through tours of Europe and th
 e USA with the likes of The Rolling Stones, Bon Jovi, INXS and UB40, s
 elling more than 2 million albums worldwide. Following an eye-opening 
 interview Dan conducted with the Dalai Lama for Spin Magazine, he long
 ed for more than the rock and roll lifestyle and took a hiatus from Da
 n Reed Network in 1994.\n\nAfter travelling and studying in India and 
 Jerusalem, Dan is back with a triumphant new record, Coming Up For Air
 . His fresh organic sound demonstrates his talent beyond the big bang 
 from the \"Network\" days and proves his potency as a true music miles
 tone.\n\nAn exciting event for fans both old and new, this acoustic pe
 rformance will be an opportunity to witness an artist who couples pass
 ionate belief with a unique talent; unforgettable melodies with though
 t-provoking lyrics; decades of rockstar experience with engaging fresh
 ness; entertainment for the ears with sustenance for the soul.\n\nFor 
 Tickets Click Here\n\nFor more information visit http://phillytodo.com
 /events/dan-reed-of-dan-reed-network
DTSTART:20100729T230000Z
DTEND:20100730T020000Z
CATEGORIES:music, concert
LOCATION:North Star Bar, Philadelphia PA
WEBSITE:http://www.northstarbar.com/
URL:http://www.northstarbar.com/
CONTACT:(215) 787-0488
ORGANIZER;CN="Eric Miller":http://phillytodo.com/profile/EricMiller
ATTACH;FMTTYPE="image/jpeg":http://storage.ning.com/topology/rest/1.0/
 file/get/3054950271?profile=original
ATTENDEE;ROLE=REQ-PARTICIPANT;PARTSTAT=ACCEPTED;RSVP=TRUE;CN="Eric Mil
 ler":http://phillytodo.com/profile/EricMiller
END:VEVENT
END:VCALENDAR
