BEGIN:VCALENDAR
PRODID:NingEventWidget-v1
VERSION:2.0
METHOD:PUBLISH
BEGIN:VEVENT
UID:4320450:Event:50102
DTSTAMP:20260425T162634Z
SUMMARY:Dîner en Blanc Philadelphia 2017 Preview Party
DESCRIPTION:Diner en Blanc Philadelphia presents the 2017 preview part
 y on Tuesday, June 6, 2017 from 5:00pm to 7:00pm at the Historic Headh
 ouse Square Shambles (2nd/Pine Streets). Area florists, event planners
  and designers will present elegant and elaborate table displays that 
 pay homage to “Historic Philadelphia: Events That Shaped Our City.
  Feast Your Eyes Catering will be sampling items from this year's Dî
 ner en Blanc catering meals and Collective Creamery will be sampling t
 heir cheese boards. Shop from an expanded selection of retail and beau
 ty vendors. Reconnect with friends from the last five years. Meet orga
 nizers and volunteers to learn about the event for the first time. Fin
 d out what to bring, what to wear and where to buy everything!  The p
 review party is free and open to the public, ages 21 and up only (with
  identification). Sampling is available first come, first served.  Fo
 r more information, follow Dîner en Blanc Philadelphia on Facebook an
 d on Twitter (@debphl #debphl17). To add your name to the wait list fo
 r the main event, visit http://philadelphia.dinerenblanc.com/register\
 n\nFor more information visit http://phillytodo.com/events/d-ner-en-bl
 anc-philadelphia-2017-preview-party
DTSTART:20170606T210000Z
DTEND:20170606T230000Z
CATEGORIES:preview, party
LOCATION:Headhouse Square Shambles
WEBSITE:
URL:
CONTACT:2158409216
ORGANIZER:Diner en Blanc
ATTACH;FMTTYPE="image/jpeg":http://storage.ning.com/topology/rest/1.0/
 file/get/3055006098?profile=original
ATTENDEE;ROLE=REQ-PARTICIPANT;PARTSTAT=ACCEPTED;RSVP=TRUE;CN="Aversa P
 R & Events":http://phillytodo.com/profile/KoryAversa277
END:VEVENT
END:VCALENDAR
