BEGIN:VCALENDAR
PRODID:NingEventWidget-v1
VERSION:2.0
METHOD:PUBLISH
BEGIN:VEVENT
UID:4320450:Event:35213
DTSTAMP:20260425T125000Z
SUMMARY:Cut Your Own Christmas Tree
DESCRIPTION:Take a hayride into Linvilla's fields and search through L
 invilla’s 40,000 Christmas trees until you find the one that's just 
 right. You can Cut Your Own Christmas Tree any day beginning November 
 23 through December 23; Mondays through Fridays from 10 am to 5 pm, an
 d Saturday and Sundays from 9 am to 5 pm. All of Linvilla's Cut Your 
 Own Trees are $59.99 plus tax. \n\nFor more information visit http://
 phillytodo.com/events/cut-your-own-christmas-tree
DTSTART:20131123T140000Z
DTEND:20131223T220000Z
CATEGORIES:holiday, events
LOCATION:linvilla orchards
WEBSITE:http://www.linvilla.com
URL:http://www.linvilla.com
CONTACT:610876-7116
ORGANIZER:Jaime Morris
ATTACH;FMTTYPE="image/jpeg":
ATTENDEE;ROLE=REQ-PARTICIPANT;PARTSTAT=ACCEPTED;RSVP=TRUE;CN="Tina Bre
 slow":http://phillytodo.com/profile/TinaBreslow
END:VEVENT
END:VCALENDAR
