BEGIN:VCALENDAR
PRODID:NingEventWidget-v1
VERSION:2.0
METHOD:PUBLISH
BEGIN:VEVENT
UID:4320450:Event:53602
DTSTAMP:20260425T143845Z
SUMMARY:Customer Appreciation Happy Hour at Greensgrow Farms
DESCRIPTION:Thank you for a wonderful year! Have a nosh and a tipple i
 n the greenhouse. Before you head out to First Friday, come by Greensg
 row Farms to check out our selection of Pennsylvania grown holiday tre
 es, wreaths and greens! Plus winter flowering plants, edible gifts and
  gear of all sorts in the greenhouse. We are open till 8 for holiday s
 hopping during the week.\n\nFor more information visit http://phillyto
 do.com/events/customer-appreciation-happy-hour-at-greensgrow-farms
DTSTART:20171201T230000Z
DTEND:20171202T010000Z
CATEGORIES:neighborhood, party
LOCATION:Greensgrow Farms
WEBSITE:http://www.greensgrow.org/event/customer-appreciation-happy-ho
 ur-greensgrow-farms/
URL:http://www.greensgrow.org/event/customer-appreciation-happy-hour-g
 reensgrow-farms/
CONTACT:
ORGANIZER;CN="Greensgrow Farms":http://phillytodo.com/profile/Greensgr
 owFarms
ATTACH;FMTTYPE="image/jpeg":http://storage.ning.com/topology/rest/1.0/
 file/get/3055009746?profile=original
ATTENDEE;ROLE=REQ-PARTICIPANT;PARTSTAT=ACCEPTED;RSVP=TRUE;CN="Greensgr
 ow Farms":http://phillytodo.com/profile/GreensgrowFarms
END:VEVENT
END:VCALENDAR
