BEGIN:VCALENDAR
PRODID:NingEventWidget-v1
VERSION:2.0
METHOD:PUBLISH
BEGIN:VEVENT
UID:4320450:Event:39717
DTSTAMP:20260425T112544Z
SUMMARY:Cupid's Undie Run 2015
DESCRIPTION:Cupid's Undie Run is where a little crazy meets a lot of c
 harity. Start a team & join us February 14th to support the Children's
  Tumor Foundation.Put the hilarity in charity with hundreds of half-na
 ked runners taking to the streets at Xfinity Live. Be a part of someth
 ing great. Last year Cupid's raised over $2.8 million. Start a team, 
 join a team, or just run solo and make some new friends! Noon: doors 
 open & the party starts2pm: UNDIE RUN3pm: awards ceremony4pm: bag chec
 k & VIP bar close. \n\nFor more information visit http://phillytodo.c
 om/events/cupid-s-undie-run-2015
DTSTART:20150214T170000Z
DTEND:20150214T210000Z
CATEGORIES:fundraiser, running, fitness
LOCATION:XFINITY Live! Philadelphia
WEBSITE:http://www.xfinitylive.com/entertainment/event/3959
URL:http://www.xfinitylive.com/entertainment/event/3959
CONTACT:2674436415
ORGANIZER;CN="XFINITY Live! Philadelphia":http://phillytodo.com/profil
 e/XFINITYLivePhiladelphia
ATTACH;FMTTYPE="image/jpeg":http://storage.ning.com/topology/rest/1.0/
 file/get/3054986220?profile=original
ATTENDEE;ROLE=REQ-PARTICIPANT;PARTSTAT=ACCEPTED;RSVP=TRUE;CN="XFINITY 
 Live! Philadelphia":http://phillytodo.com/profile/XFINITYLivePhiladelp
 hia
END:VEVENT
END:VCALENDAR
