BEGIN:VCALENDAR
PRODID:NingEventWidget-v1
VERSION:2.0
METHOD:PUBLISH
BEGIN:VEVENT
UID:4320450:Event:45031
DTSTAMP:20260425T130730Z
SUMMARY:Cupid Is Stupid Anti-Valentines Day Party
DESCRIPTION:Who needs a Valentine when you can boycott Valentines Day 
 with us at The Vault at Valley Forge Casino?! On Friday, February 12th
 , from 9:30pm – 2am, celebrate the single life at the best anti-val
 entines day party of the season! Best part? It's free to attend if y
 ou RSVP!Your RSVP Includes:\n\nNo Cover Charge\n1 Complimentary Drink 
 or Beer\nA Light Food Buffet (Bavarian soft pretzels, hummus, grilled 
 chicken pesto flatbread, bacon wrapped dates, YUM!)\nFireball & JD McG
 illicuddy's Drink Specials from 11pm-1am\nDJ Entertainment by DJ Reed 
 Streets\nBeautiful people\nPrize give-a-ways\nAnd more singles in one 
 place than any other party in town!\n\nDoors open at 9:30pm, dress to 
 impress!It's the biggest Valentine's Day Party in Philly! And we've go
 t it all. Flirting. Dancing. Contests and Prizes! Don't miss out on th
 is awesome event! \nYou must RSVP in advance to attend!\n\nFor more 
 information visit http://phillytodo.com/events/cupid-is-stupid-anti-va
 lentines-day-party
DTSTART:20160213T023000Z
DTEND:20160213T070000Z
CATEGORIES:"valentine's", day, party
LOCATION:The Vault- Valley Forge Casino
WEBSITE:http://www.upcomingevents.com/e/cupid-is-stupid-anti-valentine
 s-day-party-25282/?ref=ptodo
URL:http://www.upcomingevents.com/e/cupid-is-stupid-anti-valentines-da
 y-party-25282/?ref=ptodo
CONTACT:
ORGANIZER;CN="UpcomingEvents.com":http://phillytodo.com/profile/Upcomi
 ngEventscom
ATTACH;FMTTYPE="image/jpeg":http://storage.ning.com/topology/rest/1.0/
 file/get/3054991322?profile=original
ATTENDEE;ROLE=REQ-PARTICIPANT;PARTSTAT=ACCEPTED;RSVP=TRUE;CN="Upcoming
 Events.com":http://phillytodo.com/profile/UpcomingEventscom
END:VEVENT
END:VCALENDAR
