BEGIN:VCALENDAR
PRODID:NingEventWidget-v1
VERSION:2.0
METHOD:PUBLISH
BEGIN:VEVENT
UID:4320450:Event:170349
DTSTAMP:20260425T112413Z
SUMMARY:Cultivated Space
DESCRIPTION:This group exhibition includes works that resonate with th
 e complexities and divergent perceptions attributed to gardens and cul
 tivated spaces. On a personal and intimate level gardens are perceived
  as a place of refuge, solace and emotional centering. The larger, mor
 e broader impacts however, reveal the disparate interpretations of cul
 tivated spaces from socio-economic and environmental perspectives. The
  works in this exhibition are not literal representations, but rather 
 through artistic processes and intentions serve as an entry point in c
 onsidering a myriad of intersections.\n\nFor more information visit ht
 tp://phillytodo.com/events/cultivated-space
DTSTART:20220412T040000Z
DTEND:20220717T035900Z
CATEGORIES:art, exhibition
LOCATION:Glassboro
WEBSITE:https://sites.rowan.edu/artgallery/
URL:https://sites.rowan.edu/artgallery/
CONTACT:8562564520
ORGANIZER;CN="mary salvante":http://phillytodo.com/profile/marysalvant
 e
ATTACH;FMTTYPE="image/jpeg":https://storage.ning.com/topology/rest/1.0
 /file/get/10359948467?profile=original
ATTENDEE;ROLE=REQ-PARTICIPANT;PARTSTAT=ACCEPTED;RSVP=TRUE;CN="mary sal
 vante":http://phillytodo.com/profile/marysalvante
END:VEVENT
END:VCALENDAR
