BEGIN:VCALENDAR
PRODID:NingEventWidget-v1
VERSION:2.0
METHOD:PUBLISH
BEGIN:VEVENT
UID:4320450:Event:40917
DTSTAMP:20260425T142749Z
SUMMARY:CSA Cooking for Families with Honeypie Cooking
DESCRIPTION:http://www.greensgrow.org/event/csa-cooking-for-families-w
 ith-honeypie-cooking/\n\nFor more information visit http://phillytodo.
 com/events/csa-cooking-for-families-with-honeypie-cooking
DTSTART:20150613T160000Z
DTEND:20150613T180000Z
CATEGORIES:workshop
LOCATION:Greensgrow Community Kitchen at St. Michael's Lutheran Church
WEBSITE:http://www.greensgrow.org/event/csa-cooking-for-families-with-
 honeypie-cooking/
URL:http://www.greensgrow.org/event/csa-cooking-for-families-with-hone
 ypie-cooking/
CONTACT:2154272702
ORGANIZER:Greensgrow Farms and Honeypie Cooking
ATTACH;FMTTYPE="image/jpeg":
ATTENDEE;ROLE=REQ-PARTICIPANT;PARTSTAT=ACCEPTED;RSVP=TRUE;CN="Greensgr
 ow Farms":http://phillytodo.com/profile/GreensgrowFarms
END:VEVENT
END:VCALENDAR
