BEGIN:VCALENDAR
PRODID:NingEventWidget-v1
VERSION:2.0
METHOD:PUBLISH
BEGIN:VEVENT
UID:4320450:Event:40619
DTSTAMP:20260425T131034Z
SUMMARY:Crossfit Love Fitness Fair
DESCRIPTION:Summer is right around the corner! The Crossfit Love Fitne
 ss Fair at The Market & Shops at Comcast Center is the perfect event t
 o kick start your summer workout routine.  Get free workout of the da
 y workshops and expert advice on Crossfit, gymnastics, Olympic lifting
 , and nutrition! Free product samples, prizes, and giveaways.  All at
 hletic levels are welcome – perfect event for those who are new to C
 rossfit or those seasoned vets who want to gain access to expert suppo
 rt.   \n\nFor more information visit http://phillytodo.com/events/cr
 ossfit-love-fitness-fair
DTSTART:20150324T210000Z
DTEND:20150324T230000Z
CATEGORIES:fitness
LOCATION:The Market & Shops at Comcast Center
WEBSITE:
URL:
CONTACT:
ORGANIZER:Cashman & Associates
ATTACH;FMTTYPE="image/jpeg":http://storage.ning.com/topology/rest/1.0/
 file/get/3054987001?profile=original
ATTENDEE;ROLE=REQ-PARTICIPANT;PARTSTAT=ACCEPTED;RSVP=TRUE;CN=CashmanAs
 soc:http://phillytodo.com/profile/CashmanAssoc
END:VEVENT
END:VCALENDAR
