BEGIN:VCALENDAR
PRODID:NingEventWidget-v1
VERSION:2.0
METHOD:PUBLISH
BEGIN:VEVENT
UID:4320450:Event:2233
DTSTAMP:20260425T125025Z
SUMMARY:Crocodile Bar Grand Opening Party
DESCRIPTION:On Friday September 10th, be sure to come out for the Gran
 d Opening of Philly's newest bar - Crocodile Bar in Olde City! With tw
 o floors of action, two of the area's hottest DJs, open bar & free piz
 za from 8-10pm, followed by great drinks specials, you will not be dis
 appointed! Just a $5 cover - includes Open Bar/Pizza 8-10pm! We will s
 ee you and your friends there. Must RSVP at CrocodilePhilly.com.\n\nWa
 nt more info? View Website » http://www.crocodilephilly.com\n\nhttp:/
 /www.UpcomingEvents.com/event/5489/ptodo/\n\nFor more information visi
 t http://phillytodo.com/events/crocodile-bar-grand-opening
DTSTART:20100911T000000Z
DTEND:20100911T060000Z
CATEGORIES:grand, opening, bar
LOCATION:Crocodile Bar
WEBSITE:http://www.UpcomingEvents.com/event/5489/ptodo/
URL:http://www.UpcomingEvents.com/event/5489/ptodo/
CONTACT:856-438-6405
ORGANIZER;CN="UpcomingEvents.com":http://phillytodo.com/profile/Upcomi
 ngEventscom
ATTACH;FMTTYPE="image/jpeg":http://storage.ning.com/topology/rest/1.0/
 file/get/3054950467?profile=original
ATTENDEE;ROLE=REQ-PARTICIPANT;PARTSTAT=ACCEPTED;RSVP=TRUE;CN="Upcoming
 Events.com":http://phillytodo.com/profile/UpcomingEventscom
END:VEVENT
END:VCALENDAR
