BEGIN:VCALENDAR
PRODID:NingEventWidget-v1
VERSION:2.0
METHOD:PUBLISH
BEGIN:VEVENT
UID:4320450:Event:34975
DTSTAMP:20260425T155044Z
SUMMARY:Creating & Maintaining Terrariums Workshop
DESCRIPTION:$35. Registration Required.  Greensgrow’s Farm Manager D
 avid, shows you how to create and maintain your own mini oasis. We’l
 l cover the particulars of an enclosed environment, soil requirements,
  using charcoal, watering, planting, choosing and maintaining plants, 
 and design. Everyone will create and take home their very own starter 
 terrarium.  Registration fee includes a small glass globe vessel, soil
 , charcoal and stones. Plants are not included but will be available f
 or purchase.\n\nFor more information visit http://phillytodo.com/event
 s/creating-maintaining-terrariums-workshop
DTSTART:20131102T160000Z
DTEND:20131102T180000Z
CATEGORIES:workshop
LOCATION:Greensgrow Farms
WEBSITE:http://www.greensgrow.org/event/creating-and-maintaining-terra
 riums-workshop/
URL:http://www.greensgrow.org/event/creating-and-maintaining-terrarium
 s-workshop/
CONTACT:
ORGANIZER;CN="Greensgrow Farms":http://phillytodo.com/profile/Greensgr
 owFarms
ATTACH;FMTTYPE="image/jpeg":http://storage.ning.com/topology/rest/1.0/
 file/get/3054967866?profile=original
ATTENDEE;ROLE=REQ-PARTICIPANT;PARTSTAT=ACCEPTED;RSVP=TRUE;CN="Greensgr
 ow Farms":http://phillytodo.com/profile/GreensgrowFarms
END:VEVENT
END:VCALENDAR
