BEGIN:VCALENDAR
PRODID:NingEventWidget-v1
VERSION:2.0
METHOD:PUBLISH
BEGIN:VEVENT
UID:4320450:Event:58679
DTSTAMP:20260425T173504Z
SUMMARY:CRANK
DESCRIPTION:CRANK composes the visual language of art in all its forms
  from the beginning of time till present day. The stunning contemporar
 y pieces describe what it is like to live at the beginning of the 21st
  century. In a very short time, CRANK has garnered critical praise and
  acquisitions by well-respected curators and museum collections. CRANK
  debuted in winter at Art Miami Wynwood 2019 and opens the summer with
  AMERICAN BEAUTY at The Clay Studio.\n\nFor more information visit htt
 p://phillytodo.com/events/crank
DTSTART:20190727T150000Z
DTEND:20190906T220000Z
CATEGORIES:gallery
LOCATION:The Clay Studio
WEBSITE:http://: https://www.theclaystudio.org/exhibitions/crank
URL:http://: https://www.theclaystudio.org/exhibitions/crank
CONTACT:
ORGANIZER;CN="Bryan Chan":http://phillytodo.com/profile/BryanChan
ATTACH;FMTTYPE="image/jpeg":https://storage.ning.com/topology/rest/1.0
 /file/get/3381450215?profile=original
ATTENDEE;ROLE=REQ-PARTICIPANT;PARTSTAT=ACCEPTED;RSVP=TRUE;CN="Bryan Ch
 an":http://phillytodo.com/profile/BryanChan
END:VEVENT
END:VCALENDAR
