BEGIN:VCALENDAR
PRODID:NingEventWidget-v1
VERSION:2.0
METHOD:PUBLISH
BEGIN:VEVENT
UID:4320450:Event:61316
DTSTAMP:20260425T130611Z
SUMMARY:CraftNOW’s “Cultures of Making” Symposium
DESCRIPTION:CraftNOW’s 2020 symposium “Cultures of Making,” o
 rganized in collaboration with Techné is a signature event of Phila
 delphia’s CraftMONTH and will be hosted virtually and free to the 
 public, giving national and international audiences unprecedented acc
 ess to explore Philadelphia’s innovations in craft. The two-day sym
 posium will include talks and moderated discussions inspired by recent
  publications. This year’s keynote speakers, Hinda Mandell and Vash
 ti Dubois, will be central to each day’s discussion, as they challen
 ge attendees to think about craft as a tool for provocation and exchan
 ge.\n\nFor more information visit http://phillytodo.com/events/craftno
 w-s-cultures-of-making-symposium-1
DTSTART:20201106T190000Z
DTEND:20201106T213000Z
CATEGORIES:symposium
LOCATION:Zoom: https://zoom.us/meeting/register/tJIvce2tpjsoGdPYMnplAv
 bDTxQjRITnNoYX
WEBSITE:https://www.craftnowphila.org/symposium/
URL:https://www.craftnowphila.org/symposium/
CONTACT:(215) 717-7883
ORGANIZER:CraftNOW
ATTACH;FMTTYPE="image/jpeg":https://storage.ning.com/topology/rest/1.0
 /file/get/7962203860?profile=original
ATTENDEE;ROLE=REQ-PARTICIPANT;PARTSTAT=ACCEPTED;RSVP=TRUE;CN="Bryan Ch
 an":http://phillytodo.com/profile/BryanChan
END:VEVENT
END:VCALENDAR
