BEGIN:VCALENDAR
PRODID:NingEventWidget-v1
VERSION:2.0
METHOD:PUBLISH
BEGIN:VEVENT
UID:4320450:Event:168831
DTSTAMP:20260425T124231Z
SUMMARY:CraftNOW Presents: CapitalNOW
DESCRIPTION:This year, CraftNOW launched CapitalNOW, an ongoing series
  that brings together various capital resources in Philadelphia. On Se
 ptember 29, CraftNOW will host a discussion about crowdfunding and int
 roduce Kiva, an international nonprofit that offers creative entrepren
 eurs interest-free small business loans. Kiva uses crowdfunding to mak
 e affordable loans accessible to a wide range of small businesses by e
 mploying alternative eligibility requirements and a community of nearl
 y two million lenders. The program features Kiva’s Program Director 
 Emily Keebler, Associate Director of the Creative Business Accelerator
  Katie Johnson, and multi-disciplinary artist and Kiva loan recipient 
 Jessica Alpern Brown.\n\nFor more information visit http://phillytodo.
 com/events/craftnow-presents-capitalnow
DTSTART:20210929T213000Z
DTEND:20210929T223000Z
CATEGORIES:workshop
LOCATION:Virtual
WEBSITE:https://www.craftnowphila.org/capitalnow/
URL:https://www.craftnowphila.org/capitalnow/
CONTACT:
ORGANIZER:CraftNOW
ATTACH;FMTTYPE="image/jpeg":https://storage.ning.com/topology/rest/1.0
 /file/get/9574568885?profile=original
ATTENDEE;ROLE=REQ-PARTICIPANT;PARTSTAT=ACCEPTED;RSVP=TRUE;CN="Bryan Ch
 an":http://phillytodo.com/profile/BryanChan
END:VEVENT
END:VCALENDAR
